BEGIN:VCALENDAR
VERSION:2.0
PRODID:-//Patty Lindstrom, PHD - ECPv6.15.20//NONSGML v1.0//EN
CALSCALE:GREGORIAN
METHOD:PUBLISH
X-WR-CALNAME:Patty Lindstrom, PHD
X-ORIGINAL-URL:https://drpattylindstrom.com
X-WR-CALDESC:Events for Patty Lindstrom, PHD
REFRESH-INTERVAL;VALUE=DURATION:PT1H
X-Robots-Tag:noindex
X-PUBLISHED-TTL:PT1H
BEGIN:VTIMEZONE
TZID:UTC
BEGIN:STANDARD
TZOFFSETFROM:+0000
TZOFFSETTO:+0000
TZNAME:UTC
DTSTART:20250101T000000
END:STANDARD
END:VTIMEZONE
BEGIN:VEVENT
DTSTART;TZID=UTC:20260423T173000
DTEND;TZID=UTC:20260423T190000
DTSTAMP:20260423T215006
CREATED:20260331T135144Z
LAST-MODIFIED:20260402T034000Z
UID:7420-1776965400-1776970800@drpattylindstrom.com
SUMMARY:Champaign\, Illinois - Meet the Author and Book Signing
DESCRIPTION:Book Signing Event with Dr. Patty Lindstrom\nJoin us for an inspiring evening with Dr. Patty Lindstrom at The Literary\, 122 N. Neil St.\, Champaign\, Illinois. \nEvent Details Time: 5:30 PM – 7:00 PM. Admission: Free. \nCome meet Dr. Lindstrom\, connect in person\, and celebrate the ideas behind her work. Whether you already own a copy or plan to purchase one at the store\, you’ll have the opportunity to get your book personally signed. \nThis is a great chance to engage with the author\, ask questions\, and be part of a meaningful conversation around purpose and innovation.\nWe look forward to seeing you there!
URL:https://drpattylindstrom.com/events/champaign-illinois-book-signing-april-23/
ATTACH;FMTTYPE=image/jpeg:https://drpattylindstrom.com/wp-content/uploads/2026/03/The-Literary.jpg
END:VEVENT
END:VCALENDAR