BEGIN:VCALENDAR
VERSION:2.0
PRODID:-//Patty Lindstrom, PHD - ECPv6.15.20//NONSGML v1.0//EN
CALSCALE:GREGORIAN
METHOD:PUBLISH
X-ORIGINAL-URL:https://drpattylindstrom.com
X-WR-CALDESC:Events for Patty Lindstrom, PHD
REFRESH-INTERVAL;VALUE=DURATION:PT1H
X-Robots-Tag:noindex
X-PUBLISHED-TTL:PT1H
BEGIN:VTIMEZONE
TZID:UTC
BEGIN:STANDARD
TZOFFSETFROM:+0000
TZOFFSETTO:+0000
TZNAME:UTC
DTSTART:20240101T000000
END:STANDARD
END:VTIMEZONE
BEGIN:VEVENT
DTSTART;TZID=UTC:20251119T180000
DTEND;TZID=UTC:20251119T200000
DTSTAMP:20260424T044211
CREATED:20251029T231742Z
LAST-MODIFIED:20251101T163103Z
UID:7378-1763575200-1763582400@drpattylindstrom.com
SUMMARY:Official Chicago Book Launch
DESCRIPTION:Book signing\, food and conversation with Dr. Patty Lindstrom
URL:https://drpattylindstrom.com/events/official-chicago-book-launch/
LOCATION:Metropolitan Club Chicago\, S. Wacker Drive\, Floor 67\, Chicago\, IL\, IL\, 60606\, United States
END:VEVENT
END:VCALENDAR