BEGIN:VCALENDAR
VERSION:2.0
PRODID:-//Patty Lindstrom, PHD - ECPv6.15.20//NONSGML v1.0//EN
CALSCALE:GREGORIAN
METHOD:PUBLISH
X-ORIGINAL-URL:https://drpattylindstrom.com
X-WR-CALDESC:Events for Patty Lindstrom, PHD
REFRESH-INTERVAL;VALUE=DURATION:PT1H
X-Robots-Tag:noindex
X-PUBLISHED-TTL:PT1H
BEGIN:VTIMEZONE
TZID:UTC
BEGIN:STANDARD
TZOFFSETFROM:+0000
TZOFFSETTO:+0000
TZNAME:UTC
DTSTART:20240101T000000
END:STANDARD
END:VTIMEZONE
BEGIN:VEVENT
DTSTART;TZID=UTC:20251113T180000
DTEND;TZID=UTC:20251113T200000
DTSTAMP:20260424T064550
CREATED:20251029T231112Z
LAST-MODIFIED:20251101T162821Z
UID:7369-1763056800-1763064000@drpattylindstrom.com
SUMMARY:Official Book Launch
DESCRIPTION:
URL:https://drpattylindstrom.com/events/book-launch-benedictine-university/
LOCATION:Benedictine University\, 5700 College Rd\, Lisle\, IL\, 60532\, United States
ORGANIZER;CN="Dr. Patty Lindstrom":MAILTO:kim@creatvlogic.com
END:VEVENT
END:VCALENDAR